BEGIN:VCALENDAR
VERSION:2.0
PRODID:-//Kendall Bronco Club - ECPv6.15.20//NONSGML v1.0//EN
CALSCALE:GREGORIAN
METHOD:PUBLISH
X-ORIGINAL-URL:https://www.kendallbroncoclub.com
X-WR-CALDESC:Events for Kendall Bronco Club
REFRESH-INTERVAL;VALUE=DURATION:PT1H
X-Robots-Tag:noindex
X-PUBLISHED-TTL:PT1H
BEGIN:VTIMEZONE
TZID:America/Los_Angeles
BEGIN:DAYLIGHT
TZOFFSETFROM:-0800
TZOFFSETTO:-0700
TZNAME:PDT
DTSTART:20210314T100000
END:DAYLIGHT
BEGIN:STANDARD
TZOFFSETFROM:-0700
TZOFFSETTO:-0800
TZNAME:PST
DTSTART:20211107T090000
END:STANDARD
BEGIN:DAYLIGHT
TZOFFSETFROM:-0800
TZOFFSETTO:-0700
TZNAME:PDT
DTSTART:20220313T100000
END:DAYLIGHT
BEGIN:STANDARD
TZOFFSETFROM:-0700
TZOFFSETTO:-0800
TZNAME:PST
DTSTART:20221106T090000
END:STANDARD
BEGIN:DAYLIGHT
TZOFFSETFROM:-0800
TZOFFSETTO:-0700
TZNAME:PDT
DTSTART:20230312T100000
END:DAYLIGHT
BEGIN:STANDARD
TZOFFSETFROM:-0700
TZOFFSETTO:-0800
TZNAME:PST
DTSTART:20231105T090000
END:STANDARD
BEGIN:DAYLIGHT
TZOFFSETFROM:-0800
TZOFFSETTO:-0700
TZNAME:PDT
DTSTART:20240310T100000
END:DAYLIGHT
BEGIN:STANDARD
TZOFFSETFROM:-0700
TZOFFSETTO:-0800
TZNAME:PST
DTSTART:20241103T090000
END:STANDARD
BEGIN:DAYLIGHT
TZOFFSETFROM:-0800
TZOFFSETTO:-0700
TZNAME:PDT
DTSTART:20250309T100000
END:DAYLIGHT
BEGIN:STANDARD
TZOFFSETFROM:-0700
TZOFFSETTO:-0800
TZNAME:PST
DTSTART:20251102T090000
END:STANDARD
END:VTIMEZONE
BEGIN:VTIMEZONE
TZID:UTC
BEGIN:STANDARD
TZOFFSETFROM:+0000
TZOFFSETTO:+0000
TZNAME:UTC
DTSTART:20210101T000000
END:STANDARD
END:VTIMEZONE
BEGIN:VEVENT
DTSTART;TZID=America/Los_Angeles:20240309T093000
DTEND;TZID=America/Los_Angeles:20240309T110000
DTSTAMP:20260422T020659
CREATED:20240221T224137Z
LAST-MODIFIED:20240221T224137Z
UID:10000031-1709976600-1709982000@www.kendallbroncoclub.com
SUMMARY:Cars and Coffee - March 2024
DESCRIPTION:Kendall Bronco Club of Eugene will be hosting our next Cars & Coffee event this upcoming March 9th from 9:30 AM – 11:00 AM. \nWe’re excited to see you there and can’t wait to share some coffee! \nHave questions? Contact the Kendall Bronco Club \n  \nBy attending\, you agree that photography\, filming and/or recording and to any use\, in any and all media throughout the universe in perpetuity\, of your appearance\, voice and name for any purpose whatsoever including advertising / marketing\, without royalty or other compensation to you\, and for a copyright of such photography\, filming or recording to be held by Kendall Automotive Group\, Inc. and/or its affiliates.
URL:https://www.kendallbroncoclub.com/event/cars-and-coffee-march-2024/
LOCATION:Kendall Bronco Club of Eugene\, 380 Goodpasture Island Rd\, Eugene\, OR\, 97401\, United States
CATEGORIES:Eugene
ATTACH;FMTTYPE=image/jpeg:https://www.kendallbroncoclub.com/wp-content/uploads/2024/02/22027-eugfor-Mar24-cars-and-coffee-1080x1080-1.jpg
END:VEVENT
BEGIN:VEVENT
DTSTART;TZID=America/Los_Angeles:20240210T093000
DTEND;TZID=America/Los_Angeles:20240210T110000
DTSTAMP:20260422T020659
CREATED:20240124T233638Z
LAST-MODIFIED:20240125T171552Z
UID:10000030-1707557400-1707562800@www.kendallbroncoclub.com
SUMMARY:Cars and Coffee - February 2024
DESCRIPTION:Kendall Bronco Club of Eugene will be hosting our next Cars & Coffee event this upcoming February 10th from 9:30 AM – 11:00 AM. \nVisit the Bronco Club to show off your Ford and enjoy some coffee with us. Let’s take some time to enjoy great coffee and even greater Fords. We’re excited to see you there! \nHave questions? Contact the Kendall Bronco Club \n  \nBy attending\, you agree that photography\, filming and/or recording and to any use\, in any and all media throughout the universe in perpetuity\, of your appearance\, voice and name for any purpose whatsoever including advertising / marketing\, without royalty or other compensation to you\, and for a copyright of such photography\, filming or recording to be held by Kendall Automotive Group\, Inc. and/or its affiliates.
URL:https://www.kendallbroncoclub.com/event/cars-and-coffee-february-2024/
LOCATION:Kendall Bronco Club of Eugene\, 380 Goodpasture Island Rd\, Eugene\, OR\, 97401\, United States
CATEGORIES:Eugene
ATTACH;FMTTYPE=image/jpeg:https://www.kendallbroncoclub.com/wp-content/uploads/2024/01/21871-eugfor-Jan23-February-Cars-and-Coffee-1080x10801-1.jpg
END:VEVENT
BEGIN:VEVENT
DTSTART;TZID=America/Los_Angeles:20240113T093000
DTEND;TZID=America/Los_Angeles:20240113T110000
DTSTAMP:20260422T020659
CREATED:20231220T155126Z
LAST-MODIFIED:20231220T155246Z
UID:10000029-1705138200-1705143600@www.kendallbroncoclub.com
SUMMARY:Cars and Coffee - January 2024
DESCRIPTION:Kendall Bronco Club of Eugene will be hosting our first Cars & Coffee event this year on January 13th from 9:30 AM – 11:00 AM. \nBring your new or classic Ford\, Ford Bronco\, or any Ford model that you want to show off! \nHave questions? Contact the Kendall Bronco Club \n  \nBy attending\, you agree that photography\, filming and/or recording and to any use\, in any and all media throughout the universe in perpetuity\, of your appearance\, voice and name for any purpose whatsoever including advertising / marketing\, without royalty or other compensation to you\, and for a copyright of such photography\, filming or recording to be held by Kendall Automotive Group\, Inc. and/or its affiliates.
URL:https://www.kendallbroncoclub.com/event/cars-and-coffee-january-2024/
LOCATION:Kendall Bronco Club of Eugene\, 380 Goodpasture Island Rd\, Eugene\, OR\, 97401\, United States
CATEGORIES:Eugene
ATTACH;FMTTYPE=image/jpeg:https://www.kendallbroncoclub.com/wp-content/uploads/2023/12/21558-eugfor-Dec23-Cars-and-Coffee-Materials_SOCIAL1.jpg
END:VEVENT
BEGIN:VEVENT
DTSTART;TZID=America/Los_Angeles:20231209T093000
DTEND;TZID=America/Los_Angeles:20231209T110000
DTSTAMP:20260422T020659
CREATED:20231120T174453Z
LAST-MODIFIED:20231120T200827Z
UID:10000028-1702114200-1702119600@www.kendallbroncoclub.com
SUMMARY:Cars and Coffee - December 2023
DESCRIPTION:Kendall Bronco Club of Eugene will be hosting our December Cars & Coffee event this December 9th from 9:30 AM – 11:00 AM. \nBring your vehicle to display. Whether it’s a new or classic Ford\, the Ford Bronco\, or any Ford model that you want to show off! \nHave questions? Contact the Kendall Bronco Club \n  \nBy attending\, you agree that photography\, filming and/or recording and to any use\, in any and all media throughout the universe in perpetuity\, of your appearance\, voice and name for any purpose whatsoever including advertising / marketing\, without royalty or other compensation to you\, and for a copyright of such photography\, filming or recording to be held by Kendall Automotive Group\, Inc. and/or its affiliates.
URL:https://www.kendallbroncoclub.com/event/cars-and-coffee-december-2023/
LOCATION:Kendall Bronco Club of Eugene\, 380 Goodpasture Island Rd\, Eugene\, OR\, 97401\, United States
CATEGORIES:Eugene
ATTACH;FMTTYPE=image/jpeg:https://www.kendallbroncoclub.com/wp-content/uploads/2023/11/21434-eugfor-Dec23-Dec-Cars-and-Coffee-1080x10801-1.jpg
END:VEVENT
BEGIN:VEVENT
DTSTART;TZID=America/Los_Angeles:20231111T093000
DTEND;TZID=America/Los_Angeles:20231111T113000
DTSTAMP:20260422T020659
CREATED:20231023T214737Z
LAST-MODIFIED:20231023T214737Z
UID:10000027-1699695000-1699702200@www.kendallbroncoclub.com
SUMMARY:Cars and Coffee - November 2023
DESCRIPTION:Kendall Bronco Club of Eugene will be hosting our November Cars & Coffee event this November 11th from 9:30 AM – 11:00 AM. \nJoin us and display your classic Ford\, Ford Bronco\, or any Ford you want to show off. We can’t wait to see you there and share some coffee! \nHave questions? Contact the Kendall Bronco Club \n  \nBy attending\, you agree that photography\, filming and/or recording and to any use\, in any and all media throughout the universe in perpetuity\, of your appearance\, voice and name for any purpose whatsoever including advertising / marketing\, without royalty or other compensation to you\, and for a copyright of such photography\, filming or recording to be held by Kendall Automotive Group\, Inc. and/or its affiliates.
URL:https://www.kendallbroncoclub.com/event/cars-and-coffee-november-2023/
LOCATION:Kendall Bronco Club of Eugene\, 380 Goodpasture Island Rd\, Eugene\, OR\, 97401\, United States
CATEGORIES:Eugene
ATTACH;FMTTYPE=image/jpeg:https://www.kendallbroncoclub.com/wp-content/uploads/2023/10/21304-eugfor-Nov23-Cars-and-Coffee-Materials-1080x10801-1.jpg
END:VEVENT
BEGIN:VEVENT
DTSTART;TZID=America/Los_Angeles:20231014T093000
DTEND;TZID=America/Los_Angeles:20231014T113000
DTSTAMP:20260422T020659
CREATED:20230901T190310Z
LAST-MODIFIED:20230901T190310Z
UID:10000021-1697275800-1697283000@www.kendallbroncoclub.com
SUMMARY:Cars and Coffee - October 2023
DESCRIPTION:Mark your calendar! Kendall Bronco Club of Eugene will be hosting our October Cars & Coffee event this October 14th from 9:30 AM – 11:00 AM. \nCome and show off your Bronco or classic Ford and join us for some coffee. We can’t wait to see you there! \nHave questions? Contact the Kendall Bronco Club \n  \nBy attending\, you agree that photography\, filming and/or recording and to any use\, in any and all media throughout the universe in perpetuity\, of your appearance\, voice and name for any purpose whatsoever including advertising / marketing\, without royalty or other compensation to you\, and for a copyright of such photography\, filming or recording to be held by Kendall Automotive Group\, Inc. and/or its affiliates.
URL:https://www.kendallbroncoclub.com/event/cars-and-coffee-october-2023/
LOCATION:Kendall Bronco Club of Eugene\, 380 Goodpasture Island Rd\, Eugene\, OR\, 97401\, United States
CATEGORIES:Eugene
ATTACH;FMTTYPE=image/jpeg:https://www.kendallbroncoclub.com/wp-content/uploads/2023/09/21039-eugfor-Oct23-Cars-and-Coffee-Materials-Social-1080x1080-1.jpg
END:VEVENT
BEGIN:VEVENT
DTSTART;TZID=America/Los_Angeles:20230909T093000
DTEND;TZID=America/Los_Angeles:20230909T113000
DTSTAMP:20260422T020659
CREATED:20230829T162506Z
LAST-MODIFIED:20230901T183430Z
UID:10000020-1694251800-1694259000@www.kendallbroncoclub.com
SUMMARY:Cars and Coffee - September 2023
DESCRIPTION:Join the Kendall Bronco Club of Eugene for our next Cars & Coffee event this September 9th from 9:30 AM – 11:00 AM. \nCome and show off your Bronco\, classic Ford\, or other Ford that you want to share. We can’t wait to see you there and share some coffee! \nHave questions? Contact the Kendall Bronco Club \n  \nBy attending\, you agree that photography\, filming and/or recording and to any use\, in any and all media throughout the universe in perpetuity\, of your appearance\, voice and name for any purpose whatsoever including advertising / marketing\, without royalty or other compensation to you\, and for a copyright of such photography\, filming or recording to be held by Kendall Automotive Group\, Inc. and/or its affiliates.
URL:https://www.kendallbroncoclub.com/event/cars-and-coffee-september-2023/
LOCATION:Kendall Bronco Club of Eugene\, 380 Goodpasture Island Rd\, Eugene\, OR\, 97401\, United States
CATEGORIES:Eugene
ATTACH;FMTTYPE=image/jpeg:https://www.kendallbroncoclub.com/wp-content/uploads/2023/08/21027-eugfor-Sept23-Cars-and-Coffee-Materials-Social-1080x1080-1.jpg
END:VEVENT
BEGIN:VEVENT
DTSTART;TZID=America/Los_Angeles:20230812T093000
DTEND;TZID=America/Los_Angeles:20230812T113000
DTSTAMP:20260422T020659
CREATED:20230727T144607Z
LAST-MODIFIED:20230727T144644Z
UID:10000018-1691832600-1691839800@www.kendallbroncoclub.com
SUMMARY:Cars and Coffee - August 2023
DESCRIPTION:Join the Kendall Bronco Club of Eugene for our next Cars & Coffee event this August 12th from 9:30 AM – 11:00 AM. \nBring your vehicle to display. Whether it’s a new or classic Ford\, the Ford Bronco\, or any other Ford model that you want to show off. We can’t wait to see you there! \nHave questions? Contact the Kendall Bronco Club \n  \nBy attending\, you agree that photography\, filming and/or recording and to any use\, in any and all media throughout the universe in perpetuity\, of your appearance\, voice and name for any purpose whatsoever including advertising / marketing\, without royalty or other compensation to you\, and for a copyright of such photography\, filming or recording to be held by Kendall Automotive Group\, Inc. and/or its affiliates.
URL:https://www.kendallbroncoclub.com/event/cars-and-coffee-august-2023/
LOCATION:Kendall Bronco Club of Eugene\, 380 Goodpasture Island Rd\, Eugene\, OR\, 97401\, United States
CATEGORIES:Eugene
ATTACH;FMTTYPE=image/jpeg:https://www.kendallbroncoclub.com/wp-content/uploads/2023/07/20857-eugfor-July23-August-Cars-and-Coffee-Social-1000x1000-1.jpg
END:VEVENT
BEGIN:VEVENT
DTSTART;TZID=America/Los_Angeles:20230708T093000
DTEND;TZID=America/Los_Angeles:20230708T113000
DTSTAMP:20260422T020659
CREATED:20230620T205236Z
LAST-MODIFIED:20230620T205236Z
UID:10000016-1688808600-1688815800@www.kendallbroncoclub.com
SUMMARY:Cars and Coffee - July 2023
DESCRIPTION:Join the Kendall Bronco Club of Eugene for our next Cars & Coffee event this July 8th from 9:30 AM – 11:00 AM. \nBring your Bronco or Ford to the club and we’ll share some coffee while we admire our impressive Ford builds. We can’t wait to see you there!\n  \nHave questions? Contact the Kendall Bronco Club \n  \nBy attending\, you agree that photography\, filming and/or recording and to any use\, in any and all media throughout the universe in perpetuity\, of your appearance\, voice and name for any purpose whatsoever including advertising / marketing\, without royalty or other compensation to you\, and for a copyright of such photography\, filming or recording to be held by Kendall Automotive Group\, Inc. and/or its affiliates.
URL:https://www.kendallbroncoclub.com/event/cars-and-coffee-july-2023/
LOCATION:Kendall Bronco Club of Eugene\, 380 Goodpasture Island Rd\, Eugene\, OR\, 97401\, United States
CATEGORIES:Eugene
ATTACH;FMTTYPE=image/jpeg:https://www.kendallbroncoclub.com/wp-content/uploads/2023/06/20703-eugfor-June23-Cars-and-Coffee-Materials-Social-1000x1000-V2.jpg
END:VEVENT
BEGIN:VEVENT
DTSTART;TZID=America/Los_Angeles:20230610T093000
DTEND;TZID=America/Los_Angeles:20230610T113000
DTSTAMP:20260422T020659
CREATED:20230525T180817Z
LAST-MODIFIED:20250529T193404Z
UID:10000015-1686389400-1686396600@www.kendallbroncoclub.com
SUMMARY:Cars and Coffee - June 2025
DESCRIPTION:Join the Kendall Bronco Club of Eugene for our June Cars & Coffee event with awesome Fords and Broncos! \nVisit the Bronco Club to show off your Ford and enjoy some coffee with us on June 10th from 9:30 AM – 11:00 AM. Let’s take some time to enjoy great coffee and even greater Fords. We’re excited to see you there!\nHave questions? Contact the Kendall Bronco Club \n  \nBy attending\, you agree that photography\, filming and/or recording and to any use\, in any and all media throughout the universe in perpetuity\, of your appearance\, voice and name for any purpose whatsoever including advertising / marketing\, without royalty or other compensation to you\, and for a copyright of such photography\, filming or recording to be held by Kendall Automotive Group\, Inc. and/or its affiliates.
URL:https://www.kendallbroncoclub.com/event/cars-and-coffee-june-2025-2/
LOCATION:Kendall Bronco Club of Eugene\, 380 Goodpasture Island Rd\, Eugene\, OR\, 97401\, United States
CATEGORIES:Eugene
ATTACH;FMTTYPE=image/jpeg:https://www.kendallbroncoclub.com/wp-content/uploads/2023/05/20582-eugfor-Jun23-Cars-and-Coffee-Web-Banner-Social-Post-1000x1000-1.jpg
END:VEVENT
BEGIN:VEVENT
DTSTART;TZID=America/Los_Angeles:20230513T093000
DTEND;TZID=America/Los_Angeles:20230513T113000
DTSTAMP:20260422T020659
CREATED:20230413T185725Z
LAST-MODIFIED:20230413T185725Z
UID:10000014-1683970200-1683977400@www.kendallbroncoclub.com
SUMMARY:Cars and Coffee - May 2023
DESCRIPTION:Come join the Kendall Bronco Club of Eugene for our sixth Cars & Coffee Event with fun Fords and awesome Broncos! \nVisit the Bronco Club to show off your Ford and enjoy some coffee with us on May 13th from 9:30 AM – 11:00 AM. Let’s take some time to enjoy great coffee and even greater Fords. We’re excited to see you there!\n  \nHave questions? Contact the Kendall Bronco Club \n  \nBy attending\, you agree that photography\, filming and/or recording and to any use\, in any and all media throughout the universe in perpetuity\, of your appearance\, voice and name for any purpose whatsoever including advertising / marketing\, without royalty or other compensation to you\, and for a copyright of such photography\, filming or recording to be held by Kendall Automotive Group\, Inc. and/or its affiliates.
URL:https://www.kendallbroncoclub.com/event/cars-and-coffee-may-2023/
LOCATION:Kendall Bronco Club of Eugene\, 380 Goodpasture Island Rd\, Eugene\, OR\, 97401\, United States
CATEGORIES:Eugene
ATTACH;FMTTYPE=image/jpeg:https://www.kendallbroncoclub.com/wp-content/uploads/2023/04/20317-eugfor-May23-Cars-and-Coffee-Event-Social-Web-Banners-1000x10004-1.jpg
END:VEVENT
BEGIN:VEVENT
DTSTART;TZID=America/Los_Angeles:20230408T093000
DTEND;TZID=America/Los_Angeles:20230408T113000
DTSTAMP:20260422T020659
CREATED:20230314T162304Z
LAST-MODIFIED:20230314T162659Z
UID:10000013-1680946200-1680953400@www.kendallbroncoclub.com
SUMMARY:Cars and Coffee - April 2023
DESCRIPTION:Come join the Kendall Bronco Club of Eugene for our fifth Cars & Coffee Event with fun Fords and awesome Broncos! \nVisit the Bronco Club to show off your Ford and enjoy some coffee with us on April 8th from 9:30 AM – 11:00 AM. Let’s take some time to enjoy great coffee and even greater Fords. We’re excited to see you there!\n  \n  \nHave questions? Contact the Kendall Bronco Club
URL:https://www.kendallbroncoclub.com/event/cars-and-coffee-april-8th-2023/
LOCATION:Kendall Bronco Club of Eugene\, 380 Goodpasture Island Rd\, Eugene\, OR\, 97401\, United States
CATEGORIES:Eugene
ATTACH;FMTTYPE=image/jpeg:https://www.kendallbroncoclub.com/wp-content/uploads/2023/02/20179-EugFor-Apr23-Cars-and-Coffee-Email-Social-Post-Web-Banner-1000x1000-1.jpg
END:VEVENT
BEGIN:VEVENT
DTSTART;TZID=America/Los_Angeles:20230311T093000
DTEND;TZID=America/Los_Angeles:20230311T113000
DTSTAMP:20260422T020659
CREATED:20230213T100042Z
LAST-MODIFIED:20230202T230406Z
UID:10000012-1678527000-1678534200@www.kendallbroncoclub.com
SUMMARY:Cars and Coffee - March 2023
DESCRIPTION:Come join the Kendall Bronco Club of Eugene for our fourth Cars & Coffee Event with fun Fords and awesome Broncos! \nVisit the Bronco Club to show off your Ford and enjoy some coffee with us on March 11th from 9:30 AM – 11:00 AM. Let’s take some time to enjoy great coffee and even greater Fords. We’re excited to see you there!\n  \n  \nHave questions? Contact the Kendall Bronco Club \n  \n 
URL:https://www.kendallbroncoclub.com/event/cars-and-coffee-march-11th-2023/
LOCATION:Kendall Bronco Club of Eugene\, 380 Goodpasture Island Rd\, Eugene\, OR\, 97401\, United States
CATEGORIES:Eugene
ATTACH;FMTTYPE=image/jpeg:https://www.kendallbroncoclub.com/wp-content/uploads/2023/02/19956-EugFor-Mar23-Cars-and-Coffee-Email-Blast-1080x108051-1.jpg
END:VEVENT
BEGIN:VEVENT
DTSTART;TZID=America/Los_Angeles:20230211T093000
DTEND;TZID=America/Los_Angeles:20230211T113000
DTSTAMP:20260422T020659
CREATED:20230117T120017Z
LAST-MODIFIED:20230130T152900Z
UID:10000011-1676107800-1676115000@www.kendallbroncoclub.com
SUMMARY:Cars and Coffee - February 2023
DESCRIPTION:– Come join the Kendall Bronco Club of Eugene for our Third Cars & Coffee Event with Broncos and fun Fords! \nVisit the Bronco Club to show off your new or classic Ford and enjoy some coffee with us on February 11th from 9:30 AM – 11:00 AM. Let’s take some time to enjoy great coffee and even greater Fords. We can’t wait to see you there!\nHave questions? Contact the Kendall Bronco Club \n  \n 
URL:https://www.kendallbroncoclub.com/event/cars-and-coffee-3/
LOCATION:Kendall Bronco Club of Eugene\, 380 Goodpasture Island Rd\, Eugene\, OR\, 97401\, United States
CATEGORIES:Eugene
ATTACH;FMTTYPE=image/jpeg:https://www.kendallbroncoclub.com/wp-content/uploads/2023/01/19814-EugFor-Feb23-Cars-and-Coffee-Email-Blast-1000x1000-1.jpg
END:VEVENT
BEGIN:VEVENT
DTSTART;TZID=America/Los_Angeles:20230114T093000
DTEND;TZID=America/Los_Angeles:20230114T113000
DTSTAMP:20260422T020659
CREATED:20221213T145509Z
LAST-MODIFIED:20221213T150638Z
UID:10000010-1673688600-1673695800@www.kendallbroncoclub.com
SUMMARY:Cars and Coffee
DESCRIPTION:Come join the Kendall Bronco Club of Eugene for our second Cars & Coffee Event with Broncos and fun Fords! \nCome down to the Bronco Club to show off your ride and enjoy some coffee on January 14th from 9:30 AM – 11:00 AM. Put your new or classic Ford on display while we share some coffee and appreciate these incredible vehicles at our Eugene Bronco Club. We’ll see you there!\n  \n  \nHave questions? Contact the Kendall Bronco Club \n  \n 
URL:https://www.kendallbroncoclub.com/event/cars-and-coffee-2/
LOCATION:Kendall Bronco Club of Eugene\, 380 Goodpasture Island Rd\, Eugene\, OR\, 97401\, United States
CATEGORIES:Eugene
ATTACH;FMTTYPE=image/jpeg:https://www.kendallbroncoclub.com/wp-content/uploads/2022/12/CarsandCoffee.jpg
END:VEVENT
BEGIN:VEVENT
DTSTART;TZID=America/Los_Angeles:20221211T130000
DTEND;TZID=America/Los_Angeles:20221211T160000
DTSTAMP:20260422T020659
CREATED:20221122T184928Z
LAST-MODIFIED:20221122T184928Z
UID:10000007-1670763600-1670774400@www.kendallbroncoclub.com
SUMMARY:Photos With Santa
DESCRIPTION:Santa is coming to visit the Kendall Bronco Club! Santa will be here on December 11th from 1:00 PM – 4:00 PM to take photos at our Eugene Bronco Club location. Stop by\, share the festivities\, and get a picture with Saint Nick!\n  \n  \nHave questions? Contact the Kendall Bronco Club \n  \n 
URL:https://www.kendallbroncoclub.com/event/photos-with-santa/
LOCATION:Kendall Bronco Club of Eugene\, 380 Goodpasture Island Rd\, Eugene\, OR\, 97401\, United States
CATEGORIES:Eugene
ATTACH;FMTTYPE=image/jpeg:https://www.kendallbroncoclub.com/wp-content/uploads/2022/11/1080x1080Santa.jpg
END:VEVENT
BEGIN:VEVENT
DTSTART;TZID=America/Los_Angeles:20221210T093000
DTEND;TZID=America/Los_Angeles:20221210T113000
DTSTAMP:20260422T020659
CREATED:20221121T221603Z
LAST-MODIFIED:20221122T182508Z
UID:10000006-1670664600-1670671800@www.kendallbroncoclub.com
SUMMARY:Cars and Coffee
DESCRIPTION:Come join the Kendall Bronco Club of Eugene for our first Cars & Coffee Event with Broncos and fun Fords! \nCome down to the Bronco Club to show off your ride and enjoy some coffee on December 10th from 9:30 AM – 11:00 AM. Whether it’s a new Ford or a classic\, we’re looking forward to sharing some coffee while we appreciate the best Ford vehicles around!\n  \n  \nHave questions? Contact the Kendall Bronco Club \n  \n 
URL:https://www.kendallbroncoclub.com/event/cars-and-coffee/
LOCATION:Kendall Bronco Club of Eugene\, 380 Goodpasture Island Rd\, Eugene\, OR\, 97401\, United States
CATEGORIES:Eugene
ATTACH;FMTTYPE=image/jpeg:https://www.kendallbroncoclub.com/wp-content/uploads/2022/11/BroncoClubCarsandCoffee.jpg
END:VEVENT
BEGIN:VEVENT
DTSTART;TZID=UTC:20221009T093000
DTEND;TZID=UTC:20221009T170000
DTSTAMP:20260422T020659
CREATED:20221007T165027Z
LAST-MODIFIED:20221007T183537Z
UID:10000005-1665307800-1665334800@www.kendallbroncoclub.com
SUMMARY:Florence Dunes Bronco Adventure
DESCRIPTION:Meet at Kendall Bronco Club at 9:30 am for a meet and greet with coffee and donuts. Once waivers are signed we will head out for a beach cruise and fun at the dunes. We will have an optional group lunch after. \nTo participate you must have an off-road pass\, whip flag\, fire extinguisher and a Bronco. \nWe do not sell off-road passes\, whip flags\, or fire extinguishers at the Bronco Club at this time so you will need to acquire them. We’d recommend the Sportsman to purchase your Offroad pass Whip flags  and Extinguishers. \n  \n 
URL:https://www.kendallbroncoclub.com/event/florence-dunes-bronco-adventure/
LOCATION:Kendall Bronco Club of Eugene\, 380 Goodpasture Island Rd\, Eugene\, OR\, 97401\, United States
CATEGORIES:Eugene
ATTACH;FMTTYPE=image/jpeg:https://www.kendallbroncoclub.com/wp-content/uploads/2022/10/florence-sand-dunes-adventure.jpg
END:VEVENT
END:VCALENDAR