BEGIN:VCALENDAR
VERSION:2.0
PRODID:-//Kendall Bronco Club - ECPv6.15.20//NONSGML v1.0//EN
CALSCALE:GREGORIAN
METHOD:PUBLISH
X-ORIGINAL-URL:https://www.kendallbroncoclub.com
X-WR-CALDESC:Events for Kendall Bronco Club
REFRESH-INTERVAL;VALUE=DURATION:PT1H
X-Robots-Tag:noindex
X-PUBLISHED-TTL:PT1H
BEGIN:VTIMEZONE
TZID:America/Chicago
BEGIN:DAYLIGHT
TZOFFSETFROM:-0600
TZOFFSETTO:-0500
TZNAME:CDT
DTSTART:20230312T080000
END:DAYLIGHT
BEGIN:STANDARD
TZOFFSETFROM:-0500
TZOFFSETTO:-0600
TZNAME:CST
DTSTART:20231105T070000
END:STANDARD
BEGIN:DAYLIGHT
TZOFFSETFROM:-0600
TZOFFSETTO:-0500
TZNAME:CDT
DTSTART:20240310T080000
END:DAYLIGHT
BEGIN:STANDARD
TZOFFSETFROM:-0500
TZOFFSETTO:-0600
TZNAME:CST
DTSTART:20241103T070000
END:STANDARD
BEGIN:DAYLIGHT
TZOFFSETFROM:-0600
TZOFFSETTO:-0500
TZNAME:CDT
DTSTART:20250309T080000
END:DAYLIGHT
BEGIN:STANDARD
TZOFFSETFROM:-0500
TZOFFSETTO:-0600
TZNAME:CST
DTSTART:20251102T070000
END:STANDARD
END:VTIMEZONE
BEGIN:VEVENT
DTSTART;TZID=America/Chicago:20240511T090000
DTEND;TZID=America/Chicago:20240511T120000
DTSTAMP:20260421T182041
CREATED:20240430T225341Z
LAST-MODIFIED:20240430T225527Z
UID:10000035-1715418000-1715428800@www.kendallbroncoclub.com
SUMMARY:Cars and Coffee - May 2024
DESCRIPTION:🚗🌟 Join Us for Kendall Cars & Coffee! 🌟🚗 \n📅 Date: Saturday\, May 11th 🕘 Time: 9:00 AM – 12:00 PM 📍 Location: Kendall Bronco Showroom 📍 178 E Overland Rd\, Meridian\, ID \n☕ Featuring Coffee & Treats by Bright Eye Coffee! ☕ \n🎉 What’s Happening? \nExplore a stunning display of vehicles at the Kendall Bronco Showroom! Meet the Kendall Accessories team and learn about customizing your ride. Discover the latest services at our new Service Center. Enjoy delicious coffee and treats available for purchase from Bright Eye Coffee! \n🚗 Who’s Invited? \nCar enthusiasts 🏎️ Kendall Bronco Club members 🐎 Community members 🌟  \n🔧 Why Attend? \nGet expert advice on accessorizing your vehicle. Connect with fellow car lovers.  Experience the Kendall difference firsthand! Don’t miss out on this exciting event! Spread the word and bring your friends. Let’s rev up the excitement together at Kendall Cars & Coffee! 🎉 \nHave questions? Contact the Kendall Bronco Club \n  \nBy attending\, you agree that photography\, filming and/or recording and to any use\, in any and all media throughout the universe in perpetuity\, of your appearance\, voice and name for any purpose whatsoever including advertising / marketing\, without royalty or other compensation to you\, and for a copyright of such photography\, filming or recording to be held by Kendall Automotive Group\, Inc. and/or its affiliates.
URL:https://www.kendallbroncoclub.com/event/cars-and-coffee-meridian-may-2024/
LOCATION:Kendall Bronco Club of Meridian\, 178 E Overland Rd\, Meridian\, ID\, 83642\, United States
CATEGORIES:Meridian
ATTACH;FMTTYPE=image/jpeg:https://www.kendallbroncoclub.com/wp-content/uploads/2024/04/22384-merfor-Apr24-Cars-Coffee-1080x1080-1.jpg
END:VEVENT
END:VCALENDAR