BEGIN:VCALENDAR
VERSION:2.0
PRODID:-//Kendall Bronco Club - ECPv6.15.20//NONSGML v1.0//EN
CALSCALE:GREGORIAN
METHOD:PUBLISH
X-WR-CALNAME:Kendall Bronco Club
X-ORIGINAL-URL:https://www.kendallbroncoclub.com
X-WR-CALDESC:Events for Kendall Bronco Club
REFRESH-INTERVAL;VALUE=DURATION:PT1H
X-Robots-Tag:noindex
X-PUBLISHED-TTL:PT1H
BEGIN:VTIMEZONE
TZID:America/Los_Angeles
BEGIN:DAYLIGHT
TZOFFSETFROM:-0800
TZOFFSETTO:-0700
TZNAME:PDT
DTSTART:20240310T100000
END:DAYLIGHT
BEGIN:STANDARD
TZOFFSETFROM:-0700
TZOFFSETTO:-0800
TZNAME:PST
DTSTART:20241103T090000
END:STANDARD
BEGIN:DAYLIGHT
TZOFFSETFROM:-0800
TZOFFSETTO:-0700
TZNAME:PDT
DTSTART:20250309T100000
END:DAYLIGHT
BEGIN:STANDARD
TZOFFSETFROM:-0700
TZOFFSETTO:-0800
TZNAME:PST
DTSTART:20251102T090000
END:STANDARD
BEGIN:DAYLIGHT
TZOFFSETFROM:-0800
TZOFFSETTO:-0700
TZNAME:PDT
DTSTART:20260308T100000
END:DAYLIGHT
BEGIN:STANDARD
TZOFFSETFROM:-0700
TZOFFSETTO:-0800
TZNAME:PST
DTSTART:20261101T090000
END:STANDARD
END:VTIMEZONE
BEGIN:VEVENT
DTSTART;TZID=America/Los_Angeles:20251108T093000
DTEND;TZID=America/Los_Angeles:20251108T110000
DTSTAMP:20260422T055734
CREATED:20251023T202609Z
LAST-MODIFIED:20251023T202609Z
UID:10000058-1762594200-1762599600@www.kendallbroncoclub.com
SUMMARY:Cars and Coffee - November 2025
DESCRIPTION:Kendall Bronco Club of Eugene will be hosting our next Cars & Coffee on November 8th from 9:30 AM – 11:00 AM. \nBring your vehicle to display. Any make\, any model… New or Classic come show your vehicle off.  \nHave questions? Contact the Kendall Bronco Club \n  \nBy attending\, you agree that photography\, filming and/or recording and to any use\, in any and all media throughout the universe in perpetuity\, of your appearance\, voice and name for any purpose whatsoever including advertising / marketing\, without royalty or other compensation to you\, and for a copyright of such photography\, filming or recording to be held by Kendall Automotive Group\, Inc. and/or its affiliates. \n \nJoin us at the Cars and Coffee in Eugene
URL:https://www.kendallbroncoclub.com/event/cars-and-coffee-november-2025/
LOCATION:Kendall Bronco Club of Eugene\, 380 Goodpasture Island Rd\, Eugene\, OR\, 97401\, United States
CATEGORIES:Eugene
ATTACH;FMTTYPE=image/jpeg:https://www.kendallbroncoclub.com/wp-content/uploads/2025/10/25176-eugfor-Nov25-cars-coffee_Social_1080x108084.jpg
END:VEVENT
END:VCALENDAR