BEGIN:VCALENDAR
VERSION:2.0
PRODID:-//Kendall Bronco Club - ECPv6.15.20//NONSGML v1.0//EN
CALSCALE:GREGORIAN
METHOD:PUBLISH
X-WR-CALNAME:Kendall Bronco Club
X-ORIGINAL-URL:https://www.kendallbroncoclub.com
X-WR-CALDESC:Events for Kendall Bronco Club
REFRESH-INTERVAL;VALUE=DURATION:PT1H
X-Robots-Tag:noindex
X-PUBLISHED-TTL:PT1H
BEGIN:VTIMEZONE
TZID:America/Los_Angeles
BEGIN:DAYLIGHT
TZOFFSETFROM:-0800
TZOFFSETTO:-0700
TZNAME:PDT
DTSTART:20230312T100000
END:DAYLIGHT
BEGIN:STANDARD
TZOFFSETFROM:-0700
TZOFFSETTO:-0800
TZNAME:PST
DTSTART:20231105T090000
END:STANDARD
BEGIN:DAYLIGHT
TZOFFSETFROM:-0800
TZOFFSETTO:-0700
TZNAME:PDT
DTSTART:20240310T100000
END:DAYLIGHT
BEGIN:STANDARD
TZOFFSETFROM:-0700
TZOFFSETTO:-0800
TZNAME:PST
DTSTART:20241103T090000
END:STANDARD
BEGIN:DAYLIGHT
TZOFFSETFROM:-0800
TZOFFSETTO:-0700
TZNAME:PDT
DTSTART:20250309T100000
END:DAYLIGHT
BEGIN:STANDARD
TZOFFSETFROM:-0700
TZOFFSETTO:-0800
TZNAME:PST
DTSTART:20251102T090000
END:STANDARD
END:VTIMEZONE
BEGIN:VEVENT
DTSTART;TZID=America/Los_Angeles:20241012T093000
DTEND;TZID=America/Los_Angeles:20241012T110000
DTSTAMP:20260422T232351
CREATED:20241004T200445Z
LAST-MODIFIED:20241004T200445Z
UID:10000045-1728725400-1728730800@www.kendallbroncoclub.com
SUMMARY:Cars and Coffee - October 2024
DESCRIPTION:Kendall Bronco Club of Eugene will be hosting our next Cars & Coffee this October 12th from 9:30 AM – 11:00 AM. \nBring your new or classic Ford\, Ford Bronco\, or any Ford model that you want to show off. We’re excited to see you there! \nHave questions? Contact the Kendall Bronco Club \n  \nBy attending\, you agree that photography\, filming and/or recording and to any use\, in any and all media throughout the universe in perpetuity\, of your appearance\, voice and name for any purpose whatsoever including advertising / marketing\, without royalty or other compensation to you\, and for a copyright of such photography\, filming or recording to be held by Kendall Automotive Group\, Inc. and/or its affiliates.
URL:https://www.kendallbroncoclub.com/event/cars-and-coffee-october-2024/
LOCATION:Kendall Bronco Club of Eugene\, 380 Goodpasture Island Rd\, Eugene\, OR\, 97401\, United States
CATEGORIES:Eugene
ATTACH;FMTTYPE=image/jpeg:https://www.kendallbroncoclub.com/wp-content/uploads/2024/10/23215-eugfor-oct24-cars-and-coffee_social.jpg
END:VEVENT
END:VCALENDAR